BEGIN:VCALENDAR
VERSION:2.0
PRODID:-//Tukios.com/
BEGIN:VEVENT
UID:b0841bb6-7d58-4e57-a70e-171167e9fcc7@www.gilmoresmortuary.com
DTSTAMP:20260424T184411Z
DTSTART:20260501T170000Z
DTEND:20260501T200000Z
SUMMARY:Visitation with Family
DESCRIPTION:
URL:https://www.gilmoresmortuary.com/obituaries/ronald-huskey
LOCATION: 305 W Rutledge Ave  Gaffney SC 29341
GEO:35.0694516;-81.6572296
END:VEVENT
END:VCALENDAR